Package: DelayedTensor Version: 1.17.0 Command: /Library/Frameworks/R.framework/Resources/bin/R CMD check --install=check:DelayedTensor.install-out.txt --library=/Library/Frameworks/R.framework/Resources/library --no-vignettes --timings DelayedTensor_1.17.0.tar.gz StartedAt: 2025-11-13 19:32:46 -0500 (Thu, 13 Nov 2025) EndedAt: 2025-11-13 19:35:06 -0500 (Thu, 13 Nov 2025) EllapsedTime: 139.7 seconds RetCode: 0 Status: WARNINGS CheckDir: DelayedTensor.Rcheck Warnings: 2