Package: DelayedTensor Version: 1.17.0 Command: /Library/Frameworks/R.framework/Resources/bin/R CMD build --keep-empty-dirs --no-resave-data DelayedTensor StartedAt: 2025-11-13 16:10:44 -0500 (Thu, 13 Nov 2025) EndedAt: 2025-11-13 16:11:48 -0500 (Thu, 13 Nov 2025) EllapsedTime: 63.7 seconds RetCode: 0 Status: OK PackageFile: DelayedTensor_1.17.0.tar.gz PackageFileSize: 4.129 MiB