Package: DelayedTensor Version: 1.17.0 Command: rm -rf DelayedTensor.buildbin-libdir && mkdir DelayedTensor.buildbin-libdir && /Users/biocbuild/BBS/utils/build-universal.sh DelayedTensor_1.17.0.tar.gz /Library/Frameworks/R.framework/Resources/bin/R DelayedTensor.buildbin-libdir StartedAt: 2025-11-14 23:30:03 -0500 (Fri, 14 Nov 2025) EndedAt: 2025-11-14 23:30:20 -0500 (Fri, 14 Nov 2025) EllapsedTime: 16.4 seconds RetCode: 0 Status: OK PackageFile: DelayedTensor_1.17.0.tgz PackageFileSize: 3.098 MiB