Package: DelayedTensor Version: 1.17.0 Maintainer: Koki Tsuyuzaki MaintainerEmail: k.t.the-answer at hotmail.co.jp git_url: https://git.bioconductor.org/packages/DelayedTensor git_branch: devel git_last_commit: fbe5372 git_last_commit_date: 2025-10-29 11:10:14 -0500 (Wed, 29 Oct 2025)