Package: DelayedDataFrame Version: 1.27.0 Command: /home/biocbuild/bbs-3.23-bioc/R/bin/R CMD INSTALL DelayedDataFrame StartedAt: 2025-11-26 15:23:50 -0500 (Wed, 26 Nov 2025) EndedAt: 2025-11-26 15:24:08 -0500 (Wed, 26 Nov 2025) EllapsedTime: 18.1 seconds RetCode: 0 Status: OK