Package: DelayedDataFrame Version: 1.27.0 Command: /Library/Frameworks/R.framework/Resources/bin/R CMD build --keep-empty-dirs --no-resave-data DelayedDataFrame StartedAt: 2025-11-26 16:44:33 -0500 (Wed, 26 Nov 2025) EndedAt: 2025-11-26 16:45:18 -0500 (Wed, 26 Nov 2025) EllapsedTime: 44.8 seconds RetCode: 0 Status: OK PackageFile: DelayedDataFrame_1.27.0.tar.gz PackageFileSize: 486.4 KiB