Package: DelayedDataFrame Version: 1.27.0 Command: /Library/Frameworks/R.framework/Resources/bin/R CMD INSTALL DelayedDataFrame StartedAt: 2025-11-26 15:09:13 -0500 (Wed, 26 Nov 2025) EndedAt: 2025-11-26 15:09:21 -0500 (Wed, 26 Nov 2025) EllapsedTime: 8.1 seconds RetCode: 0 Status: OK