Package: DelayedDataFrame Version: 1.27.0 Command: /Library/Frameworks/R.framework/Resources/bin/R CMD check --install=check:DelayedDataFrame.install-out.txt --library=/Library/Frameworks/R.framework/Resources/library --no-vignettes --timings DelayedDataFrame_1.27.0.tar.gz StartedAt: 2025-11-26 19:30:32 -0500 (Wed, 26 Nov 2025) EndedAt: 2025-11-26 19:31:28 -0500 (Wed, 26 Nov 2025) EllapsedTime: 55.7 seconds RetCode: 0 Status: OK CheckDir: DelayedDataFrame.Rcheck Warnings: 0