Package: DelayedDataFrame Version: 1.27.0 Command: rm -rf DelayedDataFrame.buildbin-libdir && mkdir DelayedDataFrame.buildbin-libdir && /Users/biocbuild/BBS/utils/build-universal.sh DelayedDataFrame_1.27.0.tar.gz /Library/Frameworks/R.framework/Resources/bin/R DelayedDataFrame.buildbin-libdir StartedAt: 2025-11-26 23:31:08 -0500 (Wed, 26 Nov 2025) EndedAt: 2025-11-26 23:31:18 -0500 (Wed, 26 Nov 2025) EllapsedTime: 10.2 seconds RetCode: 0 Status: OK PackageFile: DelayedDataFrame_1.27.0.tgz PackageFileSize: 918.1 KiB