Package: DelayedArray Version: 0.37.0 Command: /home/biocbuild/bbs-3.23-bioc/R/bin/R CMD build --keep-empty-dirs --no-resave-data DelayedArray StartedAt: 2025-11-13 17:12:17 -0500 (Thu, 13 Nov 2025) EndedAt: 2025-11-13 17:13:14 -0500 (Thu, 13 Nov 2025) EllapsedTime: 57.0 seconds RetCode: 0 Status: OK PackageFile: DelayedArray_0.37.0.tar.gz PackageFileSize: 793.3 KiB