Package: DelayedArray Version: 0.37.0 Command: _R_CHECK_CODETOOLS_PROFILE_="suppressFundefMismatch=TRUE" /Library/Frameworks/R.framework/Resources/bin/R CMD check --install=check:DelayedArray.install-out.txt --library=/Library/Frameworks/R.framework/Resources/library --no-vignettes --timings DelayedArray_0.37.0.tar.gz StartedAt: 2025-11-13 19:32:31 -0500 (Thu, 13 Nov 2025) EndedAt: 2025-11-13 19:34:15 -0500 (Thu, 13 Nov 2025) EllapsedTime: 104.2 seconds RetCode: 0 Status: WARNINGS CheckDir: DelayedArray.Rcheck Warnings: 1