Package: DelayedArray Version: 0.37.0 Command: /Library/Frameworks/R.framework/Resources/bin/R CMD build --keep-empty-dirs --no-resave-data DelayedArray StartedAt: 2025-11-13 16:10:17 -0500 (Thu, 13 Nov 2025) EndedAt: 2025-11-13 16:10:44 -0500 (Thu, 13 Nov 2025) EllapsedTime: 27.3 seconds RetCode: 0 Status: OK PackageFile: DelayedArray_0.37.0.tar.gz PackageFileSize: 793.2 KiB