Package: DegNorm Version: 1.21.0 Command: /home/biocbuild/bbs-3.23-bioc/R/bin/R CMD INSTALL DegNorm StartedAt: 2025-11-21 15:39:49 -0500 (Fri, 21 Nov 2025) EndedAt: 2025-11-21 15:40:45 -0500 (Fri, 21 Nov 2025) EllapsedTime: 56.2 seconds RetCode: 0 Status: OK