Package: DegNorm Version: 1.21.0 Command: /home/biocbuild/bbs-3.23-bioc/R/bin/R CMD build --keep-empty-dirs --no-resave-data DegNorm StartedAt: 2025-11-21 17:12:50 -0500 (Fri, 21 Nov 2025) EndedAt: 2025-11-21 17:17:53 -0500 (Fri, 21 Nov 2025) EllapsedTime: 303.4 seconds RetCode: 0 Status: OK PackageFile: DegNorm_1.21.0.tar.gz PackageFileSize: 3.368 MiB