Package: DegNorm Version: 1.21.0 Command: /Library/Frameworks/R.framework/Resources/bin/R CMD INSTALL DegNorm StartedAt: 2025-11-13 15:21:39 -0500 (Thu, 13 Nov 2025) EndedAt: 2025-11-13 15:22:00 -0500 (Thu, 13 Nov 2025) EllapsedTime: 20.8 seconds RetCode: 0 Status: OK