Package: DegNorm Version: 1.21.0 Command: /Library/Frameworks/R.framework/Resources/bin/R CMD build --keep-empty-dirs --no-resave-data DegNorm StartedAt: 2025-11-13 16:09:58 -0500 (Thu, 13 Nov 2025) EndedAt: 2025-11-13 16:11:57 -0500 (Thu, 13 Nov 2025) EllapsedTime: 119.3 seconds RetCode: 0 Status: OK PackageFile: DegNorm_1.21.0.tar.gz PackageFileSize: 3.399 MiB