Package: DegCre Version: 1.7.0 Command: /Library/Frameworks/R.framework/Resources/bin/R CMD INSTALL DegCre StartedAt: 2025-11-19 15:23:49 -0500 (Wed, 19 Nov 2025) EndedAt: 2025-11-19 15:24:06 -0500 (Wed, 19 Nov 2025) EllapsedTime: 17.4 seconds RetCode: 0 Status: OK