Package: DegCre Version: 1.7.0 Command: /Library/Frameworks/R.framework/Resources/bin/R CMD build --keep-empty-dirs --no-resave-data DegCre StartedAt: 2025-11-19 16:08:25 -0500 (Wed, 19 Nov 2025) EndedAt: 2025-11-19 16:09:01 -0500 (Wed, 19 Nov 2025) EllapsedTime: 35.4 seconds RetCode: 0 Status: OK PackageFile: DegCre_1.7.0.tar.gz PackageFileSize: 2.43 MiB