Package: DegCre Version: 1.7.0 Command: rm -rf DegCre.buildbin-libdir && mkdir DegCre.buildbin-libdir && /Users/biocbuild/BBS/utils/build-universal.sh DegCre_1.7.0.tar.gz /Library/Frameworks/R.framework/Resources/bin/R DegCre.buildbin-libdir StartedAt: 2025-11-19 23:31:03 -0500 (Wed, 19 Nov 2025) EndedAt: 2025-11-19 23:31:25 -0500 (Wed, 19 Nov 2025) EllapsedTime: 21.4 seconds RetCode: 0 Status: OK PackageFile: DegCre_1.7.0.tgz PackageFileSize: 2.553 MiB