Package: DeepTarget Version: 1.5.0 Command: /home/biocbuild/bbs-3.23-bioc/R/bin/R CMD build --keep-empty-dirs --no-resave-data DeepTarget StartedAt: 2025-11-11 17:14:21 -0500 (Tue, 11 Nov 2025) EndedAt: 2025-11-11 17:15:05 -0500 (Tue, 11 Nov 2025) EllapsedTime: 44.0 seconds RetCode: 0 Status: OK PackageFile: DeepTarget_1.5.0.tar.gz PackageFileSize: 2.75 MiB