Package: DeepTarget Version: 1.5.0 Maintainer: Trinh Nguyen MaintainerEmail: tinh.nguyen at nih.gov git_url: https://git.bioconductor.org/packages/DeepTarget git_branch: devel git_last_commit: fa9f844 git_last_commit_date: 2025-10-29 11:30:45 -0500 (Wed, 29 Oct 2025)