Package: DeepPINCS Version: 1.19.0 Command: /home/biocbuild/bbs-3.23-bioc/R/bin/R CMD INSTALL DeepPINCS StartedAt: 2025-11-14 15:12:20 -0500 (Fri, 14 Nov 2025) EndedAt: 2025-11-14 15:12:36 -0500 (Fri, 14 Nov 2025) EllapsedTime: 15.6 seconds RetCode: 0 Status: OK