Package: DeepPINCS Version: 1.19.0 Command: /Library/Frameworks/R.framework/Resources/bin/R CMD check --install=check:DeepPINCS.install-out.txt --library=/Library/Frameworks/R.framework/Resources/library --no-vignettes --timings DeepPINCS_1.19.0.tar.gz StartedAt: 2025-11-13 19:30:03 -0500 (Thu, 13 Nov 2025) EndedAt: 2025-11-13 19:30:47 -0500 (Thu, 13 Nov 2025) EllapsedTime: 43.4 seconds RetCode: 0 Status: OK CheckDir: DeepPINCS.Rcheck Warnings: 0