Package: DeepPINCS Version: 1.19.0 Command: /Library/Frameworks/R.framework/Resources/bin/R CMD build --keep-empty-dirs --no-resave-data DeepPINCS StartedAt: 2025-11-13 16:09:15 -0500 (Thu, 13 Nov 2025) EndedAt: 2025-11-13 16:09:24 -0500 (Thu, 13 Nov 2025) EllapsedTime: 9.1 seconds RetCode: 0 Status: OK PackageFile: DeepPINCS_1.19.0.tar.gz PackageFileSize: 2.438 MiB