Package: DeepPINCS Version: 1.19.0 Command: rm -rf DeepPINCS.buildbin-libdir && mkdir DeepPINCS.buildbin-libdir && /Users/biocbuild/BBS/utils/build-universal.sh DeepPINCS_1.19.0.tar.gz /Library/Frameworks/R.framework/Resources/bin/R DeepPINCS.buildbin-libdir StartedAt: 2025-11-13 23:34:38 -0500 (Thu, 13 Nov 2025) EndedAt: 2025-11-13 23:34:47 -0500 (Thu, 13 Nov 2025) EllapsedTime: 9.2 seconds RetCode: 0 Status: OK PackageFile: DeepPINCS_1.19.0.tgz PackageFileSize: 2.237 MiB