Package: DeeDeeExperiment Version: 1.1.0 Command: /Library/Frameworks/R.framework/Resources/bin/R CMD INSTALL DeeDeeExperiment StartedAt: 2025-11-13 15:13:36 -0500 (Thu, 13 Nov 2025) EndedAt: 2025-11-13 15:13:48 -0500 (Thu, 13 Nov 2025) EllapsedTime: 12.7 seconds RetCode: 0 Status: OK