Package: DeeDeeExperiment Version: 1.1.0 Command: /Library/Frameworks/R.framework/Resources/bin/R CMD build --keep-empty-dirs --no-resave-data DeeDeeExperiment StartedAt: 2025-11-13 16:09:10 -0500 (Thu, 13 Nov 2025) EndedAt: 2025-11-13 16:09:36 -0500 (Thu, 13 Nov 2025) EllapsedTime: 25.3 seconds RetCode: 0 Status: OK PackageFile: DeeDeeExperiment_1.1.0.tar.gz PackageFileSize: 4.503 MiB