Package: DeeDeeExperiment Version: 1.1.0 Command: rm -rf DeeDeeExperiment.buildbin-libdir && mkdir DeeDeeExperiment.buildbin-libdir && /Users/biocbuild/BBS/utils/build-universal.sh DeeDeeExperiment_1.1.0.tar.gz /Library/Frameworks/R.framework/Resources/bin/R DeeDeeExperiment.buildbin-libdir StartedAt: 2025-11-13 23:34:38 -0500 (Thu, 13 Nov 2025) EndedAt: 2025-11-13 23:34:54 -0500 (Thu, 13 Nov 2025) EllapsedTime: 15.3 seconds RetCode: 0 Status: OK PackageFile: DeeDeeExperiment_1.1.0.tgz PackageFileSize: 4.689 MiB