Package: DeconvoBuddies Version: 1.3.0 Command: /home/biocbuild/bbs-3.23-bioc/R/bin/R CMD INSTALL DeconvoBuddies StartedAt: 2025-11-14 15:55:27 -0500 (Fri, 14 Nov 2025) EndedAt: 2025-11-14 15:56:16 -0500 (Fri, 14 Nov 2025) EllapsedTime: 48.5 seconds RetCode: 0 Status: OK