Package: DeconvoBuddies Version: 1.3.0 Command: /Library/Frameworks/R.framework/Resources/bin/R CMD INSTALL DeconvoBuddies StartedAt: 2025-11-13 15:32:23 -0500 (Thu, 13 Nov 2025) EndedAt: 2025-11-13 15:32:43 -0500 (Thu, 13 Nov 2025) EllapsedTime: 20.6 seconds RetCode: 0 Status: OK