Package: DeconvoBuddies Version: 1.3.0 Command: /Library/Frameworks/R.framework/Resources/bin/R CMD build --keep-empty-dirs --no-resave-data DeconvoBuddies StartedAt: 2025-11-13 16:08:56 -0500 (Thu, 13 Nov 2025) EndedAt: 2025-11-13 16:15:49 -0500 (Thu, 13 Nov 2025) EllapsedTime: 412.4 seconds RetCode: 0 Status: OK PackageFile: DeconvoBuddies_1.3.0.tar.gz PackageFileSize: 6.185 MiB