Package: DeconvoBuddies Version: 1.3.0 Command: rm -rf DeconvoBuddies.buildbin-libdir && mkdir DeconvoBuddies.buildbin-libdir && /Users/biocbuild/BBS/utils/build-universal.sh DeconvoBuddies_1.3.0.tar.gz /Library/Frameworks/R.framework/Resources/bin/R DeconvoBuddies.buildbin-libdir StartedAt: 2025-11-13 23:34:36 -0500 (Thu, 13 Nov 2025) EndedAt: 2025-11-13 23:35:01 -0500 (Thu, 13 Nov 2025) EllapsedTime: 24.5 seconds RetCode: 0 Status: OK PackageFile: DeconvoBuddies_1.3.0.tgz PackageFileSize: 6.233 MiB