Package: DeconRNASeq Version: 1.53.0 Command: /home/biocbuild/bbs-3.23-bioc/R/bin/R CMD build --keep-empty-dirs --no-resave-data DeconRNASeq StartedAt: 2025-11-14 17:10:01 -0500 (Fri, 14 Nov 2025) EndedAt: 2025-11-14 17:10:10 -0500 (Fri, 14 Nov 2025) EllapsedTime: 9.0 seconds RetCode: 1 Status: ERROR PackageFile: None PackageFileSize: NA