Package: DeconRNASeq Version: 1.53.0 Command: /Library/Frameworks/R.framework/Resources/bin/R CMD INSTALL DeconRNASeq StartedAt: 2025-11-13 15:07:01 -0500 (Thu, 13 Nov 2025) EndedAt: 2025-11-13 15:07:05 -0500 (Thu, 13 Nov 2025) EllapsedTime: 3.8 seconds RetCode: 0 Status: OK