Package: DeconRNASeq Version: 1.53.0 Maintainer: Ting Gong MaintainerEmail: tinggong at gmail.com git_url: https://git.bioconductor.org/packages/DeconRNASeq git_branch: devel git_last_commit: 95e8afe git_last_commit_date: 2025-10-29 10:12:11 -0500 (Wed, 29 Oct 2025)