Package: DeMixT Version: 1.27.0 Command: /Library/Frameworks/R.framework/Resources/bin/R CMD INSTALL DeMixT StartedAt: 2025-11-25 15:17:54 -0500 (Tue, 25 Nov 2025) EndedAt: 2025-11-25 15:18:17 -0500 (Tue, 25 Nov 2025) EllapsedTime: 23.3 seconds RetCode: 0 Status: OK