Package: DaMiRseq Version: 2.23.0 Command: /home/biocbuild/bbs-3.23-bioc/R/bin/R CMD INSTALL DaMiRseq StartedAt: 2025-11-14 15:53:32 -0500 (Fri, 14 Nov 2025) EndedAt: 2025-11-14 15:54:31 -0500 (Fri, 14 Nov 2025) EllapsedTime: 58.5 seconds RetCode: 0 Status: OK