Package: DaMiRseq Version: 2.23.0 Command: /home/biocbuild/bbs-3.23-bioc/R/bin/R CMD build --keep-empty-dirs --no-resave-data DaMiRseq StartedAt: 2025-11-14 17:08:00 -0500 (Fri, 14 Nov 2025) EndedAt: 2025-11-14 17:15:37 -0500 (Fri, 14 Nov 2025) EllapsedTime: 456.4 seconds RetCode: 0 Status: OK PackageFile: DaMiRseq_2.23.0.tar.gz PackageFileSize: 4.219 MiB