Package: DaMiRseq Version: 2.23.0 Command: /Library/Frameworks/R.framework/Resources/bin/R CMD INSTALL DaMiRseq StartedAt: 2025-11-14 15:27:30 -0500 (Fri, 14 Nov 2025) EndedAt: 2025-11-14 15:27:53 -0500 (Fri, 14 Nov 2025) EllapsedTime: 23.3 seconds RetCode: 0 Status: OK