Package: DaMiRseq Version: 2.23.0 Command: /Library/Frameworks/R.framework/Resources/bin/R CMD build --keep-empty-dirs --no-resave-data DaMiRseq StartedAt: 2025-11-14 16:04:38 -0500 (Fri, 14 Nov 2025) EndedAt: 2025-11-14 16:07:34 -0500 (Fri, 14 Nov 2025) EllapsedTime: 175.9 seconds RetCode: 0 Status: OK PackageFile: DaMiRseq_2.23.0.tar.gz PackageFileSize: 4.219 MiB