Package: DaMiRseq Version: 2.23.0 Command: rm -rf DaMiRseq.buildbin-libdir && mkdir DaMiRseq.buildbin-libdir && /Users/biocbuild/BBS/utils/build-universal.sh DaMiRseq_2.23.0.tar.gz /Library/Frameworks/R.framework/Resources/bin/R DaMiRseq.buildbin-libdir StartedAt: 2025-11-14 23:29:24 -0500 (Fri, 14 Nov 2025) EndedAt: 2025-11-14 23:29:53 -0500 (Fri, 14 Nov 2025) EllapsedTime: 28.6 seconds RetCode: 0 Status: OK PackageFile: DaMiRseq_2.23.0.tgz PackageFileSize: 4.382 MiB