Package: DaMiRseq Version: 2.23.0 Maintainer: Mattia Chiesa MaintainerEmail: mattia.chiesa at cardiologicomonzino.it git_url: https://git.bioconductor.org/packages/DaMiRseq git_branch: devel git_last_commit: 48f9b25 git_last_commit_date: 2025-10-29 10:37:23 -0500 (Wed, 29 Oct 2025)