Package: DTA Version: 2.57.0 Command: /Library/Frameworks/R.framework/Resources/bin/R CMD INSTALL DTA StartedAt: 2025-11-16 15:02:36 -0500 (Sun, 16 Nov 2025) EndedAt: 2025-11-16 15:02:47 -0500 (Sun, 16 Nov 2025) EllapsedTime: 10.7 seconds RetCode: 0 Status: OK