Package: DSS Version: 2.59.0 Command: /home/biocbuild/bbs-3.23-bioc/R/bin/R CMD INSTALL DSS StartedAt: 2025-11-13 15:36:26 -0500 (Thu, 13 Nov 2025) EndedAt: 2025-11-13 15:37:08 -0500 (Thu, 13 Nov 2025) EllapsedTime: 41.7 seconds RetCode: 0 Status: OK