Package: DSS Version: 2.59.0 Command: /home/biocbuild/bbs-3.23-bioc/R/bin/R CMD build --keep-empty-dirs --no-resave-data DSS StartedAt: 2025-11-13 17:23:32 -0500 (Thu, 13 Nov 2025) EndedAt: 2025-11-13 17:24:35 -0500 (Thu, 13 Nov 2025) EllapsedTime: 63.0 seconds RetCode: 0 Status: OK PackageFile: DSS_2.59.0.tar.gz PackageFileSize: 2.029 MiB