Package: DSS Version: 2.59.0 Command: /Library/Frameworks/R.framework/Resources/bin/R CMD INSTALL DSS StartedAt: 2025-11-13 15:17:13 -0500 (Thu, 13 Nov 2025) EndedAt: 2025-11-13 15:17:28 -0500 (Thu, 13 Nov 2025) EllapsedTime: 15.7 seconds RetCode: 0 Status: OK