Package: DSS Version: 2.59.0 Command: /Library/Frameworks/R.framework/Resources/bin/R CMD build --keep-empty-dirs --no-resave-data DSS StartedAt: 2025-11-13 16:17:30 -0500 (Thu, 13 Nov 2025) EndedAt: 2025-11-13 16:17:57 -0500 (Thu, 13 Nov 2025) EllapsedTime: 27.3 seconds RetCode: 0 Status: OK PackageFile: DSS_2.59.0.tar.gz PackageFileSize: 2.029 MiB