Package: DSS Version: 2.59.0 Maintainer: Hao Wu , Hao Feng MaintainerEmail: hxf155 at case.edu git_url: https://git.bioconductor.org/packages/DSS git_branch: devel git_last_commit: 78fb7ed git_last_commit_date: 2025-10-29 10:11:20 -0500 (Wed, 29 Oct 2025)