Package: DRIMSeq Version: 1.39.0 Command: /home/biocbuild/bbs-3.23-bioc/R/bin/R CMD check --install=check:DRIMSeq.install-out.txt --library=/home/biocbuild/bbs-3.23-bioc/R/site-library --timings DRIMSeq_1.39.0.tar.gz StartedAt: 2025-11-14 23:10:01 -0500 (Fri, 14 Nov 2025) EndedAt: 2025-11-14 23:15:35 -0500 (Fri, 14 Nov 2025) EllapsedTime: 334.5 seconds RetCode: 0 Status: WARNINGS CheckDir: DRIMSeq.Rcheck Warnings: 1