Package: DRIMSeq Version: 1.39.0 Command: /Library/Frameworks/R.framework/Resources/bin/R CMD INSTALL DRIMSeq StartedAt: 2025-11-13 15:19:35 -0500 (Thu, 13 Nov 2025) EndedAt: 2025-11-13 15:19:40 -0500 (Thu, 13 Nov 2025) EllapsedTime: 5.2 seconds RetCode: 0 Status: OK